BEGIN:VCALENDAR
VERSION:2.0
PRODID:-//eventon.com NONSGML v1.0//EN
CALSCALE:GREGORIAN
METHOD:PUBLISH
BEGIN:VEVENT
UID:69eb59526dab5
DTSTAMP:20260424T115146Z
DTSTART:20210611T190000Z
DTEND:20210611T203000Z
LOCATION:
SUMMARY:WTC trainingsavond
DESCRIPTION:WTC trainingsavond\nhttps://www.stofwolk.nl/events/wtc-training
 savond-4/
URL:https://www.stofwolk.nl/events/wtc-trainingsavond-4/
END:VEVENT
END:VCALENDAR