BEGIN:VCALENDAR
VERSION:2.0
PRODID:-//eventon.com NONSGML v1.0//EN
CALSCALE:GREGORIAN
METHOD:PUBLISH
BEGIN:VEVENT
UID:69eb7894c1d76
DTSTAMP:20260424T140508Z
DTSTART:20260503T150000Z
DTEND:20260503T180000Z
LOCATION:
SUMMARY:Stofwolk 100
DESCRIPTION:Stofwolk 100\nhttps://www.stofwolk.nl/events/stofwolk-100-3/
URL:https://www.stofwolk.nl/events/stofwolk-100-3/
END:VEVENT
END:VCALENDAR