BEGIN:VCALENDAR
VERSION:2.0
PRODID:-//eventon.com NONSGML v1.0//EN
CALSCALE:GREGORIAN
METHOD:PUBLISH
BEGIN:VEVENT
UID:69eb7bcc0be33
DTSTAMP:20260424T141852Z
DTSTART:20260503T101300Z
DTEND:20260503T150000Z
LOCATION:
SUMMARY:Jeugdronde van Eibergen
DESCRIPTION:Jeugdronde van Eibergen\nhttps://www.stofwolk.nl/events/jeugdro
 nde-van-eibergen-2/
URL:https://www.stofwolk.nl/events/jeugdronde-van-eibergen-2/
END:VEVENT
END:VCALENDAR