BEGIN:VCALENDAR
VERSION:2.0
PRODID:-//eventon.com NONSGML v1.0//EN
CALSCALE:GREGORIAN
METHOD:PUBLISH
BEGIN:VEVENT
UID:69eb77ceaef86
DTSTAMP:20260424T140150Z
DTSTART:20260503T001200Z
DTEND:20260503T100000Z
LOCATION:
SUMMARY:Dikke banden race
DESCRIPTION:Dikke banden race\nhttps://www.stofwolk.nl/events/dikke-banden-
 race/
URL:https://www.stofwolk.nl/events/dikke-banden-race/
END:VEVENT
END:VCALENDAR